BEGIN:VCALENDAR
VERSION:2.0
PRODID:-//The Nurturing Place - ECPv6.15.20//NONSGML v1.0//EN
CALSCALE:GREGORIAN
METHOD:PUBLISH
X-ORIGINAL-URL:https://thenurturingplace.org
X-WR-CALDESC:Events for The Nurturing Place
REFRESH-INTERVAL;VALUE=DURATION:PT1H
X-Robots-Tag:noindex
X-PUBLISHED-TTL:PT1H
BEGIN:VTIMEZONE
TZID:UTC
BEGIN:STANDARD
TZOFFSETFROM:+0000
TZOFFSETTO:+0000
TZNAME:UTC
DTSTART:20250101T000000
END:STANDARD
END:VTIMEZONE
BEGIN:VEVENT
DTSTART;TZID=UTC:20260106T160000
DTEND;TZID=UTC:20260526T164500
DTSTAMP:20260423T195534
CREATED:20250802T181507Z
LAST-MODIFIED:20260107T000918Z
UID:807-1767715200-1779813900@thenurturingplace.org
SUMMARY:Beginning 4-6 year old's gymnastics (Tuesdays 4:00-4:45pm)
DESCRIPTION:45 min class taught weekly on Tuesdays from 4:00-4:45pm. This tumbling class is an entry level class focusing of safety and technique for young learners and includes level 1 and 2 skills.  Skills taught will include but are not limited to: \n\nFLOOR: forward roll\, backward roll\, backward pike roll\, round off\, cartwheel\, split jump\, handstand\, front limber\, back walkover\, back bend\,\nLOW BEAM: straight jump\, arabesque\, lever\, and handstand dismount\, passe\, battement\, pivot turn\nLOW BAR: casts\, pullover\, back hip circle/s\, dismounts as an under swing or a sole circle.\n\nGross motor skills can vary largely at this age and individualized attention will be given to progress\, instruction to higher level skills will be given if student shows correct mastery and strength.  \nAges 4-6 \nDress code: please wear clothing that allows movement but is form fitting to the body (leotard and shorts recommended) no extra skirts or loose materials. If possible hair should be pulled back off the neck and out of the face. \nPlease read the Policy and Tuition sub menu before signing up for this class as all terms and conditions must be agreed to at time of registration. \nTeacher: Carlee Bascom assisted by Clorissa Bascom. For more information on instructors see sub menu titled Bio. \nCost is a monthly fee.
URL:https://thenurturingplace.org/classes/beginning-4-6-year-olds-gymnastics-tuesdays-400-445pm/
LOCATION:Residential Studio\, 89 E CATAMARAN WAY\, Saratoga Springs\, UT\, 84045\, United States
ATTACH;FMTTYPE=image/jpeg:https://thenurturingplace.org/wp-content/uploads/2024/12/girl-in-splits.jpg
END:VEVENT
END:VCALENDAR