BEGIN:VCALENDAR
VERSION:2.0
PRODID:-//The Nurturing Place - ECPv6.15.20//NONSGML v1.0//EN
CALSCALE:GREGORIAN
METHOD:PUBLISH
X-ORIGINAL-URL:https://thenurturingplace.org
X-WR-CALDESC:Events for The Nurturing Place
REFRESH-INTERVAL;VALUE=DURATION:PT1H
X-Robots-Tag:noindex
X-PUBLISHED-TTL:PT1H
BEGIN:VTIMEZONE
TZID:UTC
BEGIN:STANDARD
TZOFFSETFROM:+0000
TZOFFSETTO:+0000
TZNAME:UTC
DTSTART:20250101T000000
END:STANDARD
END:VTIMEZONE
BEGIN:VEVENT
DTSTART;TZID=UTC:20260107T080000
DTEND;TZID=UTC:20261031T170000
DTSTAMP:20260423T224458
CREATED:20250802T185844Z
LAST-MODIFIED:20260102T234808Z
UID:818-1767772800-1793466000@thenurturingplace.org
SUMMARY:Private Gymnastics Coaching
DESCRIPTION:One on one coaching and spotting for faster skill building or practice with specialized gymnastic or dance skills\, including but not limited to: \n*Back or front handsprings \n*Back tucks \n*Front flips \n*Aerial flips \n*Layouts \nFee includes private use of professional studio space and gymnastic tools (mats\, bars\, rings\, beams\, spotting tools etc…) and individualized coaching from Gymnastic Coach Carlee Bascom.  Carlee is a level 7 gymnast\, a current member of Westlake High School Cheer Team and has also has experience with audition dance. \nPlease register if interested and then contact Carlee directly at 385-608-2710 to set up individualized times. $20 per 45min session.
URL:https://thenurturingplace.org/classes/private-gymnastics-coaching/
ATTACH;FMTTYPE=image/jpeg:https://thenurturingplace.org/wp-content/uploads/2025/08/Carlee-and-sadie.jpg
END:VEVENT
END:VCALENDAR