BEGIN:VCALENDAR
VERSION:2.0
PRODID:-//The Nurturing Place - ECPv6.15.20//NONSGML v1.0//EN
CALSCALE:GREGORIAN
METHOD:PUBLISH
X-WR-CALNAME:The Nurturing Place
X-ORIGINAL-URL:https://thenurturingplace.org
X-WR-CALDESC:Events for The Nurturing Place
REFRESH-INTERVAL;VALUE=DURATION:PT1H
X-Robots-Tag:noindex
X-PUBLISHED-TTL:PT1H
BEGIN:VTIMEZONE
TZID:UTC
BEGIN:STANDARD
TZOFFSETFROM:+0000
TZOFFSETTO:+0000
TZNAME:UTC
DTSTART:20200101T000000
END:STANDARD
END:VTIMEZONE
BEGIN:VTIMEZONE
TZID:America/Denver
BEGIN:DAYLIGHT
TZOFFSETFROM:-0700
TZOFFSETTO:-0600
TZNAME:MDT
DTSTART:20200308T090000
END:DAYLIGHT
BEGIN:STANDARD
TZOFFSETFROM:-0600
TZOFFSETTO:-0700
TZNAME:MST
DTSTART:20201101T080000
END:STANDARD
BEGIN:DAYLIGHT
TZOFFSETFROM:-0700
TZOFFSETTO:-0600
TZNAME:MDT
DTSTART:20210314T090000
END:DAYLIGHT
BEGIN:STANDARD
TZOFFSETFROM:-0600
TZOFFSETTO:-0700
TZNAME:MST
DTSTART:20211107T080000
END:STANDARD
BEGIN:DAYLIGHT
TZOFFSETFROM:-0700
TZOFFSETTO:-0600
TZNAME:MDT
DTSTART:20220313T090000
END:DAYLIGHT
BEGIN:STANDARD
TZOFFSETFROM:-0600
TZOFFSETTO:-0700
TZNAME:MST
DTSTART:20221106T080000
END:STANDARD
BEGIN:DAYLIGHT
TZOFFSETFROM:-0700
TZOFFSETTO:-0600
TZNAME:MDT
DTSTART:20230312T090000
END:DAYLIGHT
BEGIN:STANDARD
TZOFFSETFROM:-0600
TZOFFSETTO:-0700
TZNAME:MST
DTSTART:20231105T080000
END:STANDARD
END:VTIMEZONE
BEGIN:VEVENT
DTSTART;TZID=UTC:20250107T040000
DTEND;TZID=UTC:20250527T164500
DTSTAMP:20260423T214549
CREATED:20241226T200740Z
LAST-MODIFIED:20250114T233244Z
UID:759-1736222400-1748364300@thenurturingplace.org
SUMMARY:Beginning 4-6 year olds gymnastics (Tuesdays 4:00-4:45pm)
DESCRIPTION:45 min class taught weekly on Tuesdays from 4:00-4:45pm. This tumbling class is an entry level class focusing of safety and technique for young learners and includes level 1 and 2 skills.  Skills taught will include but are not limited to: \n\nFLOOR: forward roll\, backward roll\, backward pike roll\, round off\, cartwheel\, split jump\, handstand\, front limber\, back walkover\, back bend\,\nLOW BEAM: straight jump\, arabesque\, lever\, and handstand dismount\, passe\, battement\, pivot turn\nLOW BAR: casts\, pullover\, back hip circle/s\, dismounts as an under swing or a sole circle.\n\nGross motor skills can vary largely at this age and individualized attention will be given to progress\, instruction to higher level skills will be given if student shows correct mastery and strength.  \nAges 4-6 \nDress code: please wear clothing that allows movement but is form fitting to the body\, no extra skirts or loose materials. \nPlease read the Policy and Tuition sub menu before signing up for this class as all terms and conditions must be agreed to at time of registration. \nTeacher: Carlee Bascom assisted by Clorissa Bascom \nCost is a monthly fee.
URL:https://thenurturingplace.org/classes/beginning-4-6-year-olds-gymnastics-waitlist-to-start-new-class/
LOCATION:Tumbling/gymnastics\, 89 E CATAMARAN WAY\, Saratoga Springs\, UT\, 84045\, United States
CATEGORIES:Dance
ATTACH;FMTTYPE=image/jpeg:https://thenurturingplace.org/wp-content/uploads/2024/12/girl-in-splits.jpg
END:VEVENT
BEGIN:VEVENT
DTSTART;TZID=UTC:20240903T161500
DTEND;TZID=UTC:20250527T170000
DTSTAMP:20260423T214549
CREATED:20240405T185209Z
LAST-MODIFIED:20250114T233557Z
UID:690-1725380100-1748365200@thenurturingplace.org
SUMMARY:Weekly Tumbling/Gymnastics 6- 12 year olds (Tuesdays 4:45-5:30pm)
DESCRIPTION:45 min class taught weekly on Tuesdays. This tumbling class includes center mat\, low balance beam and low bar exercises.  Some of the skills taught will include but are not limited to: Head and handstands\, front and back walk overs\, front and back rolls\, stretches\, cartwheel\, pull over on the bar\, back hip circle\, and cast. Balance beam- arabesque\, pivot and pirouette turns\, front and back walks\, relive\, and jumps. Gross motor skills can vary largely at this age and individualized attention will be given to progress\, instruction to higher level skills will be given if student shows correct mastery and strength.  \nAges 6-12 \nDress code: please wear clothing that allows movement but is form fitting to the body\, no extra skirts or loose materials. \nPlease read the Policy and Tuition sub menu before signing up for this class as all terms and conditions must be agreed to at time of registration. \nTeacher: Carlee Bascom assisted by Clorissa Bascom \nCost is a monthly fee.
URL:https://thenurturingplace.org/classes/weekly-tumbling-gymnastics/
LOCATION:Tumbling/gymnastics\, 89 E CATAMARAN WAY\, Saratoga Springs\, UT\, 84045\, United States
CATEGORIES:Dance
ATTACH;FMTTYPE=image/jpeg:https://thenurturingplace.org/wp-content/uploads/2024/04/Summer-Gymnastics-Class-1.jpg
END:VEVENT
BEGIN:VEVENT
DTSTART;TZID=UTC:20240702T103000
DTEND;TZID=UTC:20240730T112000
DTSTAMP:20260423T214549
CREATED:20240405T183256Z
LAST-MODIFIED:20240614T160055Z
UID:685-1719916200-1722338400@thenurturingplace.org
SUMMARY:Weekly Summer Gymnastics (Tuesdays)
DESCRIPTION:This tumbling class includes center mat\, low balance beam and low bar exercises.  Some of the skills taught will include but are not limited to: \nFloor: Head and hand stands\, front and back rolls\, stretches\, cart wheel\, round off\, back walk over and front limber.  Bar: pull over on the bar\, back hip circle\, casts\, and beginning dismount. Balance beam: arabesque\, pivot and pirouette turns\, passé\, front and back walks\, relive\, and jumps. Gross motor skills can vary largely at this age and individualized attention will be given to progress\, instruction to higher level skills will be given if student shows correct mastery and strength. \nAges 6-12 \nDress code: please wear clothing that allows movement but is form fitting to the body\, no extra skirts or loose materials. \nPlease read the Policy and Tuition sub menu  before signing up for this class as all terms and conditions must be agreed to at time of registration. \nTeacher: Carlee Bascom assisted by Clorissa Bascom
URL:https://thenurturingplace.org/classes/weekly-summer-tumbling/
ATTACH;FMTTYPE=image/jpeg:https://thenurturingplace.org/wp-content/uploads/2024/04/Summer-Gymnastics-Class.jpg
END:VEVENT
BEGIN:VEVENT
DTSTART;TZID=UTC:20240610T103000
DTEND;TZID=UTC:20240615T112000
DTSTAMP:20260423T214549
CREATED:20200810T022647Z
LAST-MODIFIED:20240502T231420Z
UID:256-1718015400-1718450400@thenurturingplace.org
SUMMARY:Summer Tumbling/Gymnastics Camp June 10th-14 (5 days) 10:30-11:20
DESCRIPTION:This tumbling class includes center mat\, low balance beam and low bar exercises.  Some of the skills taught will include but are not limited to: Head and hand stands\, front and back walk overs\, front and back rolls\, stretches\, cart wheel\, pull over on the bar\, back hip circle\, balance beam- arabesque\, pivot and pirouette turns\, front and back walks\, relive\, and jumps. Gross motor skills can vary largely at this age and individualized attention will be given to progress\, instruction to higher level skills will be given if student shows correct mastery and strength.  \nAges 6-12 \nDress code: please wear clothing that allows movement but is form fitting to the body\, no extra skirts or loose materials. \nPlease read the Policy and Tuition sub menu before signing up for this class as all terms and conditions must be agreed to at time of registration. \nTeacher: Carlee Bascom assisted by Clorissa Bascom
URL:https://thenurturingplace.org/classes/tumbling-5-8-year-olds/
LOCATION:Tumbling/gymnastics\, 89 E CATAMARAN WAY\, Saratoga Springs\, UT\, 84045\, United States
CATEGORIES:Dance
ATTACH;FMTTYPE=image/jpeg:https://thenurturingplace.org/wp-content/uploads/2020/08/head-stand.jpg
END:VEVENT
BEGIN:VEVENT
DTSTART;TZID=UTC:20220109T040000
DTEND;TZID=UTC:20220130T170000
DTSTAMP:20260423T214549
CREATED:20210905T215026Z
LAST-MODIFIED:20210912T032143Z
UID:507-1641700800-1643562000@thenurturingplace.org
SUMMARY:Wholistic Wellness- Tools to move from worry to happiness
DESCRIPTION:A free course and support group to enhance wellbeing in all four areas of wellness:  Physical\, Mental/Intellectual\, Social/Emotional & Spiritual.  Offered 1x per week for 4 weeks this class will be held on Sundays through out the month of January.  A typical 1 hour classes dedicates 20 min to instruction on learning tools to increase positive empowering skills\, 20 min to practice the skill\, 20 min to collaborate and include this plan in your weekly reality.  Because each week will address a different area and these tool support each other\, it is suggested that participants attend all 4 classes for the full benefit. \n  \n  \nTerms and conditions: participants who sign up for this class must agree to maintain a safe\, nurturing environment by using clean language\, showing respect for the instructor and other classmates and maintaining confidentiality of all personal experiences shared.  Please leave food and drinks at home unless it is water.  This class does not claim to be any form of diagnosis\, assessment. treatment or therapy for services that require professional assistance. All liabilities are the responsibility of the participant and they agree to hold the owner free from all claims.  Thank you.
URL:https://thenurturingplace.org/classes/wholistic-wellness-tools-to-move-from-worry-to-happiness/
LOCATION:Residential Studio\, 89 E CATAMARAN WAY\, Saratoga Springs\, UT\, 84045\, United States
ATTACH;FMTTYPE=image/jpeg:https://thenurturingplace.org/wp-content/uploads/2021/09/mental-health-positivity-wordcloud-word-wellbeing-200040263.jpg
END:VEVENT
BEGIN:VEVENT
DTSTART;VALUE=DATE:20210908
DTEND;VALUE=DATE:20220525
DTSTAMP:20260423T214549
CREATED:20210902T180729Z
LAST-MODIFIED:20210902T185804Z
UID:498-1631059200-1653436799@thenurturingplace.org
SUMMARY:Waiting list
DESCRIPTION:Do you want to participate in a class that is full?  Do you have a suggestion for a class not offered?  Feel free to add your contact info or suggestions to the waiting list and your input will be used for growth and improvement.  Just click on register and then add suggestion in the “name of participant category” and I will reach out to you.  Thank you
URL:https://thenurturingplace.org/classes/waiting-list/
LOCATION:Residential Studio\, 89 E CATAMARAN WAY\, Saratoga Springs\, UT\, 84045\, United States
ATTACH;FMTTYPE=image/jpeg:https://thenurturingplace.org/wp-content/uploads/2021/09/waiting.jpg
END:VEVENT
BEGIN:VEVENT
DTSTART;TZID=UTC:20210907T173000
DTEND;TZID=UTC:20230523T181500
DTSTAMP:20260423T214549
CREATED:20210612T205258Z
LAST-MODIFIED:20210912T031701Z
UID:411-1631035800-1684865700@thenurturingplace.org
SUMMARY:Ballet 2 Ages 8-12 Tuesday 5:30-6:15pm
DESCRIPTION:2nd level ballet class for dancers who have had beginning ballet training or are committed to learning fast and being dedicated to a more structured environment.  Must be 8 years old by September.  Focus on endurance\, technique\, and increased ballet skills. This class will be balanced between bar exercises and center floor training. \nDress Code: A black short sleeve leotard and pink tights are preferred with canvas or leather shoes that are form-fitting to the feet so the teacher can see how the student is working their muscles. No slipper-style shoes.  All colors of leotards are allowed but each child will need the above for the Dec recital so if you are purchasing dance attire please start with these. \n  \nPlease read the Policy and Tuition sub menu before signing up for this class as all terms and conditions must be agreed to at time of registration.  A $10 registration fee is required 1x per year at the time of signing up and holds your place in the desired class.   Thank you.
URL:https://thenurturingplace.org/classes/ballet-2-ages-8-12/
LOCATION:Residential Studio\, 89 E CATAMARAN WAY\, Saratoga Springs\, UT\, 84045\, United States
CATEGORIES:Dance
ATTACH;FMTTYPE=image/jpeg:https://thenurturingplace.org/wp-content/uploads/2021/06/ballet-12-year-old.jpg
END:VEVENT
BEGIN:VEVENT
DTSTART;TZID=America/Denver:20210907T160000
DTEND;TZID=America/Denver:20220525T164500
DTSTAMP:20260423T214549
CREATED:20200810T015830Z
LAST-MODIFIED:20210912T031833Z
UID:252-1631030400-1653497100@thenurturingplace.org
SUMMARY:Beginning Ballet Level 1ages 5-8  Tues 4:00-4:45
DESCRIPTION:This entry-level class encourages dancers to build strength as they learn spatial awareness\, patterns\, and basic ballet techniques. Working with a barre will be introduced but most work will be done center floor. \nCovered concepts include but are not limited to: \n\nFeet and arm positions in 1st\, 2nd\, 3rd\, parallel 6th\npasses\, grand jete\, pique\,\npointing and flexing feet\, plie\, tendu\,\nposture\, balancing\, and stretching\nwalking and running on releve\nEchappe saute\nBouree\nBalancing and more.\n\n  \nSchedule: 1 fee for 4 weekly classes each month \nDress Code: A black short sleeve leotard and pink tights are preferred with canvas or leather shoes that are form-fitting to the feet so the teacher can see how the student is working their muscles. No slipper-style shoes.  All colors of leotards are allowed but each child will need the above for the Dec recital so if you are purchasing dance attire please start with these. \nPlease read the Policy and Tuition sub menu before signing up for this class as all terms and conditions must be agreed to at time of registration.  A $10 registration fee is required 1x per year at the time of signing up and holds your place in the desired class.   Thank you.
URL:https://thenurturingplace.org/classes/ballet-ages-5-8/
LOCATION:Residential Studio\, 89 E CATAMARAN WAY\, Saratoga Springs\, UT\, 84045\, United States
CATEGORIES:Dance
ATTACH;FMTTYPE=image/jpeg:https://thenurturingplace.org/wp-content/uploads/2020/08/IMG_0602-1-rotated.jpg
END:VEVENT
BEGIN:VEVENT
DTSTART;TZID=America/Denver:20210907T110000
DTEND;TZID=America/Denver:20220524T113000
DTSTAMP:20260423T214549
CREATED:20200810T005856Z
LAST-MODIFIED:20210912T031917Z
UID:232-1631012400-1653391800@thenurturingplace.org
SUMMARY:Creative combo ages 3-5 year olds 11:00 am
DESCRIPTION:This weekly creative dance class combines beginning ballet technique\, basic tumbling\, and preschool-themed movement.  We explore choreography\, self-expression\, and large motor skills such as leaping\, skipping\, hopping\, and more. This class is structured to be age-appropriate for younger boys and girls as we focus on creating a general love for dance and movement. \nDress code: No uniform required just clothes that allow movement and bare feet. (Examples include: leotard and tights\, stretchy pants\, etc..)  Ballet shoes may be worn but are not required.      *For Safety: If you do choose to purchase ballet shoes please make sure that they are made of leather or canvas and fit closely to the feet. (No slipper looking shoes as they increase falling.) \nPerformances: This class will have 2 performing opportunities.  1 informal showcase in December in the dance room and a 2nd more formal performance in May venue to be announced.  Preforming is optional but highly recommended as a character-building experience. \nSchedule: 1 fee for weekly classes each month \n  \nPlease read the Policy and Tuition sub menu before signing up for this class as all terms and conditions must be agreed to at time of registration.  A $10 registration fee is required 1x per year at the time of signing up and holds your place in the desired class.   Thank you.
URL:https://thenurturingplace.org/classes/ballet-and-tumbling-ages-3-5-year-olds/
LOCATION:Ballet Tumbling Combo\, 89 E. Catamaran Way\, Saratoga Springs\, 84045\, United States
CATEGORIES:Dance
ATTACH;FMTTYPE=image/jpeg:https://thenurturingplace.org/wp-content/uploads/2020/03/2019-flower-dance.jpg
END:VEVENT
BEGIN:VEVENT
DTSTART;TZID=America/Denver:20210907T103000
DTEND;TZID=America/Denver:20220524T110000
DTSTAMP:20260423T214549
CREATED:20200810T011446Z
LAST-MODIFIED:20210912T032016Z
UID:245-1631010600-1653390000@thenurturingplace.org
SUMMARY:Mom and Me ages 18 months- 3 years 10:30 am
DESCRIPTION:This weekly creative dance class combines beginning ballet technique with fun imaginative exercises that teach ballet positions 1st\, 2nd\, 5(arms)\, and 6 (parallel feet).  With preschool-themed topics\, we explore choreography\, self-expression\, and large motor skills such as leaping\, skipping\, hopping\, and more. The last 1/3 of the class will be an introduction to gymnastics with balance beam\, front and back rolls\, headstand and low bar practice.  This class is structured to be age-appropriate for younger boys and girls as we focus on creating a general love for dance and movement. \nPARENT PARTICIPATION REQUIRED due to age needs.  \nDress code:  Clothes that allow movement and bare feet. (Examples include: leotard and tights\, stretchy pants\, etc..)  Ballet shoes may be worn but are not required.                                             *For Safety: If you choose to purchase ballet shoes please make sure that they are made of leather or canvas and fit closely to the feet. (No slipper looking shoes as they increase falling) \nPerformances: This class will have 2 performing opportunities. 1 informal showcase in December at the dance studio and a 2nd more formal performance in May\, venue to be announced.  Preforming is optional but highly recommended as a character-building experience. \nSchedule: 1 fee for weekly classes each month \nPlease read the Policy and Tuition sub menu before signing up for this class as all terms and conditions must be agreed to at time of registration.  A $10 registration fee is required 1x per year at the time of signing up and holds your place in the desired class.   Thank you.
URL:https://thenurturingplace.org/classes/beginning-ballet-and-tumbling-ages-3-5-100-pm/
LOCATION:Ballet Tumbling Combo\, 89 E. Catamaran Way\, Saratoga Springs\, UT\, 84045\, United States
CATEGORIES:Dance
ATTACH;FMTTYPE=image/jpeg:https://thenurturingplace.org/wp-content/uploads/2020/08/small-carlee.jpg
END:VEVENT
BEGIN:VEVENT
DTSTART;TZID=UTC:20210614T080000
DTEND;TZID=UTC:20210810T090000
DTSTAMP:20260423T214549
CREATED:20210503T013238Z
LAST-MODIFIED:20210617T172307Z
UID:351-1623657600-1628586000@thenurturingplace.org
SUMMARY:Toning and resistance class
DESCRIPTION:Join us every Monday to build muscle\, make friends\, and create positive endorphins.  Woman only.  Bring your own set of light and heavyweights.  Resistance training builds muscle\, strengthens bones\, boosts the immune system\, improves mental health\, promotes restful sleep and so much more.  Will be offered for free through the summer. Babysitting services available for a rate of $2 per child with prior notification.
URL:https://thenurturingplace.org/classes/toning-and-resistance-class/
ATTACH;FMTTYPE=image/jpeg:https://thenurturingplace.org/wp-content/uploads/2021/05/toning.jpg
END:VEVENT
END:VCALENDAR